BEGIN:VCALENDAR
VERSION:2.0
PRODID:icalendar-ruby
CALSCALE:GREGORIAN
METHOD:PUBLISH
BEGIN:VEVENT
DTSTAMP:20260422T172914Z
UID:8-351813@loveroad.org
DTSTART:20260920T150000Z
DTEND:20260920T171000Z
CLASS:PUBLIC
CREATED:20260422T094741
DESCRIPTION:
LAST-MODIFIED:20260422T094741
LOCATION:Kindergarten Room
SUMMARY:Children's Sunday School
URL;VALUE=URI:https://www.loveroad.org/events/childrens-sunday-school/2026-
 09-20
END:VEVENT
END:VCALENDAR
