BEGIN:VCALENDAR
VERSION:2.0
PRODID:icalendar-ruby
CALSCALE:GREGORIAN
METHOD:PUBLISH
BEGIN:VEVENT
DTSTAMP:20260422T190239Z
UID:8-352054@loveroad.org
DTSTART:20260927T150000Z
DTEND:20260927T171000Z
CLASS:PUBLIC
CREATED:20260422T124207
DESCRIPTION:
LAST-MODIFIED:20260422T124207
LOCATION:Kindergarten Room
SUMMARY:Children's Sunday School
URL;VALUE=URI:https://www.loveroad.org/events/childrens-sunday-school/2026-
 09-27
END:VEVENT
END:VCALENDAR
