BEGIN:VCALENDAR
VERSION:2.0
PRODID:icalendar-ruby
CALSCALE:GREGORIAN
METHOD:PUBLISH
BEGIN:VEVENT
DTSTAMP:20260422T234332Z
UID:8-352297@loveroad.org
DTSTART:20261018T150000Z
DTEND:20261018T171000Z
CLASS:PUBLIC
CREATED:20260422T153744
DESCRIPTION:
LAST-MODIFIED:20260422T153744
LOCATION:Kindergarten Room
SUMMARY:Children's Sunday School
URL;VALUE=URI:https://www.loveroad.org/events/childrens-sunday-school/2026-
 10-18
END:VEVENT
END:VCALENDAR
