BEGIN:VCALENDAR
VERSION:2.0
PRODID:icalendar-ruby
CALSCALE:GREGORIAN
METHOD:PUBLISH
BEGIN:VEVENT
DTSTAMP:20260423T024736Z
UID:8-352539@loveroad.org
DTSTART:20261101T160000Z
DTEND:20261101T181000Z
CLASS:PUBLIC
CREATED:20260422T182857
DESCRIPTION:
LAST-MODIFIED:20260422T182857
LOCATION:Kindergarten Room
SUMMARY:Children's Sunday School
URL;VALUE=URI:https://www.loveroad.org/events/childrens-sunday-school/2026-
 11-01
END:VEVENT
END:VCALENDAR
