BEGIN:VCALENDAR
VERSION:2.0
PRODID:icalendar-ruby
CALSCALE:GREGORIAN
METHOD:PUBLISH
BEGIN:VEVENT
DTSTAMP:20260421T082220Z
UID:11-350032@loveroad.org
DTSTART:20260830T170000Z
DTEND:20260830T180000Z
CLASS:PUBLIC
CREATED:20260420T192703
DESCRIPTION:
LAST-MODIFIED:20260420T192703
LOCATION:
SUMMARY:Traditional Sevice
URL;VALUE=URI:https://www.loveroad.org/events/traditional-sevice/2026-08-30
END:VEVENT
END:VCALENDAR
