BEGIN:VCALENDAR
VERSION:2.0
PRODID:icalendar-ruby
CALSCALE:GREGORIAN
METHOD:PUBLISH
BEGIN:VEVENT
DTSTAMP:20260423T110935Z
UID:10-352874@loveroad.org
DTSTART:20261011T160000Z
DTEND:20261011T180000Z
CLASS:PUBLIC
CREATED:20260422T212334
DESCRIPTION:
LAST-MODIFIED:20260422T212334
LOCATION:Walker Annex
SUMMARY:UMYF Youth Sunday School
URL;VALUE=URI:https://www.loveroad.org/events/umyf-youth-sunday-school/2026
 -10-11
END:VEVENT
END:VCALENDAR
