BEGIN:VCALENDAR
VERSION:2.0
PRODID:icalendar-ruby
CALSCALE:GREGORIAN
METHOD:PUBLISH
BEGIN:VEVENT
DTSTAMP:20260425T112611Z
UID:10-355756@loveroad.org
DTSTART:20261025T160000Z
DTEND:20261025T180000Z
CLASS:PUBLIC
CREATED:20260424T205702
DESCRIPTION:
LAST-MODIFIED:20260424T205702
LOCATION:Walker Annex
SUMMARY:UMYF Youth Sunday School
URL;VALUE=URI:https://www.loveroad.org/events/umyf-youth-sunday-school/2026
 -10-25
END:VEVENT
END:VCALENDAR
