BEGIN:VCALENDAR
VERSION:2.0
PRODID:icalendar-ruby
CALSCALE:GREGORIAN
METHOD:PUBLISH
BEGIN:VEVENT
DTSTAMP:20260425T125909Z
UID:10-355997@loveroad.org
DTSTART:20261101T170000Z
DTEND:20261101T190000Z
CLASS:PUBLIC
CREATED:20260425T064006
DESCRIPTION:
LAST-MODIFIED:20260425T064006
LOCATION:Walker Annex
SUMMARY:UMYF Youth Sunday School
URL;VALUE=URI:https://www.loveroad.org/events/umyf-youth-sunday-school/2026
 -11-01
END:VEVENT
END:VCALENDAR
